BEGIN:VCALENDAR
VERSION:2.0
PRODID:-//ChamberMaster//Event Calendar 2.0//EN
METHOD:PUBLISH
X-PUBLISHED-TTL:P3D
REFRESH-INTERVAL:P3D
CALSCALE:GREGORIAN
BEGIN:VEVENT
DTSTART:20160220T003000Z
DTEND:20160220T020000Z
X-MICROSOFT-CDO-ALLDAYEVENT:FALSE
SUMMARY:Little Theatre's " Four Little Girls : Birmingham 1963"
DESCRIPTION:This heart-wrenching drama\, directed by Becky Donner with musical direction by Andre Williamson describes four little girls who lost their lives in the 16th Street Baptist church bombing in 1963. Denise McNair\, Cynthia Wesley\, Carole Robertson and Addie Mae Collins were just children when they lost their lives in a senseless act of hatred.
X-ALT-DESC;FMTTYPE=text/html:&nbsp\;This heart-wrenching drama\, directed by Becky Donner with musical direction by Andre Williamson describes four little girls who lost their lives in the 16th Street Baptist church bombing in 1963. Denise McNair\, Cynthia Wesley\, Carole Robertson and Addie Mae Collins were just children&nbsp\;when they&nbsp\;lost their lives in a senseless act of hatred.
LOCATION:The Prizery 700 Bruce Street South Boston\, VA 24592
UID:e.845.4575
SEQUENCE:3
DTSTAMP:20260425T112116Z
URL:https://business.halifaxchamber.net/events/details/little-theatre-s-four-little-girls-birmingham-1963-02-19-2016-4575
END:VEVENT

END:VCALENDAR
