BEGIN:VCALENDAR
VERSION:2.0
PRODID:-//ChamberMaster//Event Calendar 2.0//EN
METHOD:PUBLISH
X-PUBLISHED-TTL:P3D
REFRESH-INTERVAL:P3D
CALSCALE:GREGORIAN
BEGIN:VEVENT
DTSTART:20180303T140000Z
DTEND:20180303T170000Z
X-MICROSOFT-CDO-ALLDAYEVENT:FALSE
SUMMARY:Local Auditions - Summer Theatre 2018
DESCRIPTION:Auditions for Summer Theatre 2018 are being held on Saturday\, March 3! Roles are available for both college student applicants and locals. Rehearsals begin June 4.\n\n\n\n\n\nLocal Auditions - Summer Theatre 2018\n\nSaturday March 3\, 9:00 a.m. at The Prizery\n\nPlease email prizery@mac.com for an audition slot for Saturday March 3 beginning at 9:00 a.m. and going until 12 noon.\n\nThose auditioning must have a 60 second monologue memorized and 16 bars of a song memorized. Some people auditioning will be asked to stay for a group dance audition.\n\n"GYSPY" Roles include:\n\nBaby June - 8-12 years of age\, must sing and dance\n\nYoung Louise - 10-14 years of age\, must sing and dance\n\nChildren's Ensemble - boys and girls ages 8-14\, must sing and dance.\n\nYoung Adult Ensemble - 18-24\, some singing and dancing\n\nAdult Ensemble - 25-60\, some singing\n\n"OKLAHOMA"\, Ensemble roles for children and adults\, some singing
X-ALT-DESC;FMTTYPE=text/html:<span style="font-family:helvetica\;"><span style="font-size:11.5pt\;">Auditions for Summer Theatre 2018 are being held on Saturday\, March 3! Roles are available for both college student applicants and locals. Rehearsals begin June 4.</span></span><br />\n<br />\n<br />\n<strong><span style="font-family:helvetica\;"><span style="font-size:11.5pt\;">Local Auditions - Summer Theatre 2018</span></span></strong><br />\n<strong><span style="font-family:helvetica\;"><span style="font-size:11.5pt\;"><strong>Saturday March 3\, 9:00 a.m. at The Prizery</strong></span></span></strong><br />\n<span style="font-family:helvetica\;"><span style="font-size:11.5pt\;">Please email&nbsp\;<a href="mailto:prizery@mac.com" style="transition:color 0.2s ease-out\;outline:0px\;"><span style="text-decoration-line:none\;"><span style="color:#841319\;">prizery@mac.com</span></span></a>&nbsp\;for an audition slot for Saturday March 3 beginning at 9:00 a.m. and going until 12 noon.</span></span><br />\n<span style="font-family:helvetica\;"><span style="font-size:11.5pt\;">Those auditioning must have a 60 second monologue memorized and 16 bars of a song memorized. Some people auditioning will be asked to stay for a group dance audition.</span></span><br />\n<strong><span style="font-family:helvetica\;"><span style="font-size:11.5pt\;">&quot\;GYSPY&quot\; Roles include:</span></span></strong><br />\n<span style="font-family:helvetica\;"><span style="font-size:11.5pt\;">Baby June - 8-12 years of age\, must sing and dance<br />\nYoung Louise - 10-14 years of age\, must sing and dance<br />\nChildren&#39\;s Ensemble - boys and girls ages 8-14\, must sing and dance.<br />\nYoung Adult Ensemble - 18-24\, some singing and dancing<br />\nAdult Ensemble - 25-60\, some singing</span></span><br />\n<strong><span style="font-family:helvetica\;"><span style="font-size:11.5pt\;">&quot\;OKLAHOMA&quot\;</span></span></strong><span style="font-family:helvetica\;"><span style="font-size:11.5pt\;">\, Ensemble roles for children and adults\, some singing</span></span>
LOCATION:The Prizery 700 Bruce Street
UID:e.845.7231
SEQUENCE:3
DTSTAMP:20260422T070604Z
URL:https://business.halifaxchamber.net/events/details/local-auditions-summer-theatre-2018-7231
END:VEVENT

END:VCALENDAR
