BEGIN:VCALENDAR
VERSION:2.0
PRODID:-//ChamberMaster//Event Calendar 2.0//EN
METHOD:PUBLISH
X-PUBLISHED-TTL:P3D
REFRESH-INTERVAL:P3D
CALSCALE:GREGORIAN
BEGIN:VEVENT
DTSTART:20190327T170000Z
DTEND:20190327T213000Z
X-MICROSOFT-CDO-ALLDAYEVENT:FALSE
SUMMARY:Longwood Day at SVHEC
DESCRIPTION:Join us for the first LONGWOOD DAY at SVHEC!\n\nMeet Longwood staff\; Speak to your dedicated admissions counselor\; Apply on-site\; Learn more about Longwood University! Online registration required-- www.tinyurl.com/LongwoodDay
X-ALT-DESC;FMTTYPE=text/html:<span style="caret-color: rgb(29\, 33\, 41)\; color: rgb(29\, 33\, 41)\; font-family: system-ui\, -apple-system\, BlinkMacSystemFont\, &quot\;.SFNSText-Regular&quot\;\, sans-serif\; font-size: 14px\; white-space: pre-wrap\; background-color: rgb(255\, 255\, 255)\;">Join us for the first LONGWOOD DAY at SVHEC!</span><br style="caret-color: rgb(29\, 33\, 41)\; color: rgb(29\, 33\, 41)\; font-family: system-ui\, -apple-system\, BlinkMacSystemFont\, &quot\;.SFNSText-Regular&quot\;\, sans-serif\; font-size: 14px\; white-space: pre-wrap\;" />\n<span style="caret-color: rgb(29\, 33\, 41)\; color: rgb(29\, 33\, 41)\; font-family: system-ui\, -apple-system\, BlinkMacSystemFont\, &quot\;.SFNSText-Regular&quot\;\, sans-serif\; font-size: 14px\; white-space: pre-wrap\; background-color: rgb(255\, 255\, 255)\;">Meet Longwood staff\; Speak to your dedicated admissions counselor\; Apply on-site\; Learn more about Longwood University! Online registration required--&gt\;</span><a data-lynx-mode="hover" data-lynx-uri="https://l.facebook.com/l.php?u=http%3A%2F%2Fwww.tinyurl.com%2FLongwoodDay%3Ffbclid%3DIwAR3a9y_HEILijCoePH2OcI2ScbSQajOclQFlIZGHlH8VAxkztYA3M_9gfe8&amp\;h=AT3gfm-hA_YjGTOFpETUYGpDgruHZU-Adm5CrBg9T2d3oq1WJxMjAvgIzmO-kYJZ_iFt6SxvKEgo6wOLOFWN5jUhk_yHMQFVMjsEe4D0ZI5oqeHFi3hd5JXuEGi6IGJNuDA9jsAYMg" href="http://www.tinyurl.com/LongwoodDay?fbclid=IwAR3a9y_HEILijCoePH2OcI2ScbSQajOclQFlIZGHlH8VAxkztYA3M_9gfe8" rel="nofollow noopener" style="color: rgb(54\, 88\, 153)\; cursor: pointer\; text-decoration: none\; font-family: system-ui\, -apple-system\, BlinkMacSystemFont\, &quot\;.SFNSText-Regular&quot\;\, sans-serif\; font-size: 14px\; white-space: pre-wrap\;" target="_blank">www.tinyurl.com/LongwoodDay</a>
LOCATION:Southern Virginia Higher Education Center
UID:e.845.12384
SEQUENCE:3
DTSTAMP:20260421T093730Z
URL:https://business.halifaxchamber.net/events/details/longwood-day-at-svhec-12384
END:VEVENT

END:VCALENDAR
