BEGIN:VCALENDAR
VERSION:2.0
PRODID:-//ChamberMaster//Event Calendar 2.0//EN
METHOD:PUBLISH
X-PUBLISHED-TTL:P3D
REFRESH-INTERVAL:P3D
CALSCALE:GREGORIAN
BEGIN:VEVENT
DTSTART:20201110T133000Z
DTEND:20201110T133000Z
X-MICROSOFT-CDO-ALLDAYEVENT:FALSE
SUMMARY:Longwood SBDC Q & A
DESCRIPTION:Whether or not you have seen or accessed some of the resources available through your Small Business Development Center\, we would like to hear from you!  We want to hear about the most pressing issues for your businesses as well as feedback on training programs\, structure and consulting services.   SBDC staff will be available to answer questions and make connections for you and your business.  Please be sure to submit questions and suggestions for topics via the zoom registration link.
X-ALT-DESC;FMTTYPE=text/html:<span style="caret-color: rgb(0\, 0\, 0)\; color: rgb(0\, 0\, 0)\; font-family: Calibri\, sans-serif\; font-size: 14.6667px\; text-size-adjust: auto\;">Whether or not you have seen or accessed some of the resources available through your Small Business Development Center\, we would like to hear from you!&nbsp\; We want to hear about the most pressing issues for your businesses as well as feedback on training programs\, structure and consulting services.&nbsp\;&nbsp\; SBDC staff will be available to answer questions and make connections for you and your business.&nbsp\; Please be sure to submit questions and suggestions for topics via the zoom registration link.&nbsp\;</span>
LOCATION:Register via Zoom at https://us02web.zoom.us/meeting/register/tZEudu2opzksHNRo2ENnBFTSOqI1ImBrj-7V
UID:e.845.17798
SEQUENCE:3
DTSTAMP:20260419T234536Z
URL:https://business.halifaxchamber.net/events/details/longwood-sbdc-q-a-17798
END:VEVENT

END:VCALENDAR
