BEGIN:VCALENDAR
VERSION:2.0
PRODID:-//ChamberMaster//Event Calendar 2.0//EN
METHOD:PUBLISH
X-PUBLISHED-TTL:P3D
REFRESH-INTERVAL:P3D
CALSCALE:GREGORIAN
BEGIN:VEVENT
DTSTART:20190808T210000Z
DTEND:20190808T210000Z
X-MICROSOFT-CDO-ALLDAYEVENT:FALSE
SUMMARY:Longwood University New Programs Information Session
DESCRIPTION:p.p1 {margin: 0.0px 0.0px 0.0px 0.0px\; font: 12.0px Helvetica}\nspan.s1 {font-kerning: none}\n\nStarting Fall 2020\, Longwood University will offer two new bachelor degree programs in South Boston\, VA at the Southern Virginia Higher Education Center (SVHEC). The degrees available will be a Bachelor's Degree in Social Work and a Bachelor's Degree in Liberal Studies with a concentration in Elementary Education. Longwood will also offer a Master's degree in Reading\, Literacy\, and Learning starting Fall 2019.  \n\n\n\nInterested individuals are encouraged to attend the information session to meet with Longwood program coordinators and admissions staff to learn more.
X-ALT-DESC;FMTTYPE=text/html:<style type="text/css">p.p1 {margin: 0.0px 0.0px 0.0px 0.0px\; font: 12.0px Helvetica}\nspan.s1 {font-kerning: none}\n</style>\n<p class="p1"><span style="font-size:14px\;"><span class="s1">Starting Fall 2020\, Longwood University will offer two new bachelor degree programs in South Boston\, VA at the Southern Virginia Higher Education Center (SVHEC). The degrees available will be a Bachelor&rsquo\;s Degree in Social Work and a Bachelor&rsquo\;s Degree in Liberal Studies with a concentration in Elementary Education. Longwood will also offer a Master&rsquo\;s degree in Reading\, Literacy\, and Learning starting Fall 2019. &nbsp\;</span></span><br />\n<br />\n<span style="font-size:14px\;">Interested individuals are encouraged to attend the information session to meet with Longwood program coordinators and admissions staff to learn more.</span></p>\n
LOCATION:Southern Virginia Higher Education Center 820 Bruce Street South Boston\, VA 24592
UID:e.845.13235
SEQUENCE:3
DTSTAMP:20260421T025444Z
URL:https://business.halifaxchamber.net/events/details/longwood-university-new-programs-information-session-13235
END:VEVENT

END:VCALENDAR
