BEGIN:VCALENDAR
VERSION:2.0
PRODID:-//ChamberMaster//Event Calendar 2.0//EN
METHOD:PUBLISH
X-PUBLISHED-TTL:P3D
REFRESH-INTERVAL:P3D
CALSCALE:GREGORIAN
BEGIN:VEVENT
DTSTART:20181215T150000Z
DTEND:20181215T180000Z
X-MICROSOFT-CDO-ALLDAYEVENT:FALSE
SUMMARY:LuLaRoe Christmas Open House & Fundraiser for the Halifax Co Humane Society
DESCRIPTION:Head out to the Lulahouse for Christmas inspired snacks\, stocking stuffers and a fundraiser! This weekend we are donating at least 2 pet food items to the Halifax Co Humane Society for each item sold! Bring your own non-perishable pet food and we will give you a fun scratch off ticket! FINAL farewell to retiring styles : Joy\, Gigi\, Maurine\, Cici\, Amelia\, Elegant\, Lindsay and denim! Wheel spins for each purchase!
X-ALT-DESC;FMTTYPE=text/html:Head out to the Lulahouse for Christmas inspired snacks\, stocking stuffers and a fundraiser! This weekend we are donating at least 2 pet food items to the Halifax Co Humane Society for each item sold! Bring your own non-perishable pet food and we will give you a fun scratch off ticket! FINAL farewell to retiring styles : Joy\, Gigi\, Maurine\, Cici\, Amelia\, Elegant\, Lindsay and denim! Wheel spins for each purchase!
LOCATION:The Lulahouse - 1096 Deer Run Rd Halifax
UID:e.845.11447
SEQUENCE:3
DTSTAMP:20260421T140620Z
URL:https://business.halifaxchamber.net/events/details/lularoe-christmas-open-house-fundraiser-for-the-halifax-co-humane-society-11447
END:VEVENT

END:VCALENDAR
