BEGIN:VCALENDAR
VERSION:2.0
PRODID:-//ChamberMaster//Event Calendar 2.0//EN
METHOD:PUBLISH
X-PUBLISHED-TTL:P3D
REFRESH-INTERVAL:P3D
CALSCALE:GREGORIAN
BEGIN:VEVENT
DTSTART:20181222T180000Z
DTEND:20181222T210000Z
X-MICROSOFT-CDO-ALLDAYEVENT:FALSE
SUMMARY:Lularoe Open House & DIY EO Diffuser Ornament
DESCRIPTION:Christmas & LuLaRoe! Grab your pickup bags\, a new sweater\, pick up a last minute stocking stuffer or gift certificate! Christmas cookies and cider! Make and take an essential oil diffuser ornament before you go!
X-ALT-DESC;FMTTYPE=text/html:Christmas &amp\; LuLaRoe! Grab your pickup bags\, a new sweater\, pick up a last minute stocking stuffer or gift certificate! Christmas cookies and cider! Make and take an essential oil diffuser ornament before you go!
LOCATION:The Lulahouse - 1096 Deer Run Rd Halifax
UID:e.845.11452
SEQUENCE:3
DTSTAMP:20260421T135700Z
URL:https://business.halifaxchamber.net/events/details/lularoe-open-house-diy-eo-diffuser-ornament-11452
END:VEVENT

END:VCALENDAR
