BEGIN:VCALENDAR
VERSION:2.0
PRODID:-//ChamberMaster//Event Calendar 2.0//EN
METHOD:PUBLISH
X-PUBLISHED-TTL:P3D
REFRESH-INTERVAL:P3D
CALSCALE:GREGORIAN
BEGIN:VEVENT
DTSTART:20190206T170000Z
DTEND:20190206T180000Z
X-MICROSOFT-CDO-ALLDAYEVENT:FALSE
SUMMARY:Lunch & Learn Southern Virginia Higher Education Center
DESCRIPTION:Mark your calendars for our next Lunch & Learn on February 6th at 12 noon.\n\nJudy Ward will discuss a plan and some ideas for starting a Book Club.\n\nBring your lunch\, and meet us in the Berneche Conference Room!
X-ALT-DESC;FMTTYPE=text/html:<strong>Mark your calendars for our next Lunch &amp\; Learn on February 6<sup>th</sup>&nbsp\;at 12 noon.</strong><br />\n<strong>Judy Ward will discuss a plan and some ideas for starting a Book Club.</strong><br />\n<strong>Bring your lunch\, and meet us in the Berneche Conference Room!</strong>
LOCATION:Southern Virginia Higher Education Center Berneche Conference Room
UID:e.845.11983
SEQUENCE:3
DTSTAMP:20260423T090809Z
URL:https://business.halifaxchamber.net/events/details/lunch-learn-southern-virginia-higher-education-center-11983
END:VEVENT

END:VCALENDAR
