BEGIN:VCALENDAR
VERSION:2.0
PRODID:-//ChamberMaster//Event Calendar 2.0//EN
METHOD:PUBLISH
X-PUBLISHED-TTL:P3D
REFRESH-INTERVAL:P3D
CALSCALE:GREGORIAN
BEGIN:VEVENT
DTSTART:20190430T160000Z
DTEND:20190430T173000Z
X-MICROSOFT-CDO-ALLDAYEVENT:FALSE
SUMMARY:Lunch & Learn with Loaded Goat Homestead
DESCRIPTION:Learn from Loaded Goat Homestead\, a Pittsylvania County farm and family businesses.\n\nLearn\n\n	Why growing your own is healthy\n	How to grow food with limited space\n	How growing your own doesn't have to be expensive\n	Cost savings of growing your own\n\nLimited Seating. Lunch provided. Registration Required.\n\nhttps://bit.ly/2WyoQJd
X-ALT-DESC;FMTTYPE=text/html:Learn from Loaded Goat Homestead\, a Pittsylvania County farm and family businesses.<br />\n<u>Learn</u>\n<ul>\n	<li>Why growing your own is healthy</li>\n	<li>How to grow food with limited space</li>\n	<li>How growing your own doesn&#39\;t have to be expensive</li>\n	<li>Cost savings of growing your own</li>\n</ul>\n<strong><em>Limited Seating. Lunch provided. Registration Required.</em></strong><br />\nhttps://bit.ly/2WyoQJd
LOCATION:The Institute for Advance Learning and Research 150 Slayton Avenue Danville\, VA 24540
UID:e.845.12434
SEQUENCE:3
DTSTAMP:20260421T075927Z
URL:https://business.halifaxchamber.net/events/details/lunch-learn-with-loaded-goat-homestead-12434
END:VEVENT

END:VCALENDAR
