BEGIN:VCALENDAR
VERSION:2.0
PRODID:-//ChamberMaster//Event Calendar 2.0//EN
METHOD:PUBLISH
X-PUBLISHED-TTL:P3D
REFRESH-INTERVAL:P3D
CALSCALE:GREGORIAN
BEGIN:VEVENT
DTSTART:20181128T170000Z
DTEND:20181128T180000Z
X-MICROSOFT-CDO-ALLDAYEVENT:FALSE
SUMMARY:Lunch 'n Learn - How to Navigate Your Online Chamber Account
DESCRIPTION:Not tech savvy?\n\n\n\nNeed help navigating your chamber account?\n\n\n\nJoin us for a Lunch-N-Learn session and learn how to get the most out of your membership! Bring your laptops or tablets for a hands on experience! \n\n\n\nWe will teach you how to take advantage of the following:\n\nJob Postings\n\nHot Deals\n\nMember-to-Member Deals\n\nEvent Postings\n\nMember Stats and more\n\n\n\nGrab your lunchbox and join us for this FREE workshop!
X-ALT-DESC;FMTTYPE=text/html:Not tech savvy?<br />\n<br />\nNeed help navigating your chamber account?<br />\n<br />\nJoin us for a Lunch-N-Learn session and learn how to get the most out of your membership! Bring your laptops or tablets for a hands on experience!&nbsp\;<br />\n<br />\nWe will teach you how to take advantage of the following:<br />\nJob Postings<br />\nHot Deals<br />\nMember-to-Member Deals<br />\nEvent Postings<br />\nMember Stats and more<br />\n<br />\nGrab your lunchbox and join us for this FREE workshop!
LOCATION:Frank Slayton Board Room Halifax County Chamber of Commerce 820 Bruce Street\, South Boston\, VA
UID:e.845.8581
SEQUENCE:3
DTSTAMP:20260421T171616Z
URL:https://business.halifaxchamber.net/events/details/lunch-n-learn-how-to-navigate-your-online-chamber-account-8581
END:VEVENT

END:VCALENDAR
