BEGIN:VCALENDAR
VERSION:2.0
PRODID:-//ChamberMaster//Event Calendar 2.0//EN
METHOD:PUBLISH
X-PUBLISHED-TTL:P3D
REFRESH-INTERVAL:P3D
CALSCALE:GREGORIAN
BEGIN:VEVENT
DTSTART:20190306T170000Z
DTEND:20190306T180000Z
X-MICROSOFT-CDO-ALLDAYEVENT:FALSE
SUMMARY:Lunch-N-Learn with Tom Raab
DESCRIPTION:Halifax Young Professionals and Entrepreneurs invite you to join them for a Lunch-N-Learn session with Tom Raab\, Town Manager South Boston\, VA. Grab your lunch and listen to Mr. Raab speak about how to get involved in your community through board seats\, committees and volunteer work.
X-ALT-DESC;FMTTYPE=text/html:Halifax Young Professionals and Entrepreneurs invite you to join them for a Lunch-N-Learn session with Tom Raab\, Town Manager South Boston\, VA. Grab your lunch and listen to Mr. Raab speak about how to get involved in your community through board seats\, committees and volunteer work.&nbsp\;
LOCATION:Frank Slayton Board Room Halifax County Chamber of Commerce 180 Factory Street South Boston\, VA 24592
UID:e.845.12019
SEQUENCE:3
DTSTAMP:20260421T105841Z
URL:https://business.halifaxchamber.net/events/details/lunch-n-learn-with-tom-raab-12019
END:VEVENT

END:VCALENDAR
