BEGIN:VCALENDAR
VERSION:2.0
PRODID:-//ChamberMaster//Event Calendar 2.0//EN
METHOD:PUBLISH
X-PUBLISHED-TTL:P3D
REFRESH-INTERVAL:P3D
CALSCALE:GREGORIAN
BEGIN:VEVENT
DTSTART:20190413T153000Z
DTEND:20190413T200000Z
X-MICROSOFT-CDO-ALLDAYEVENT:FALSE
SUMMARY:Lunch with Easter Bunny And Eggstravaganza
DESCRIPTION:Grab your Easter basket and head over to Staunton River Battlefield State Park for a day filled with Easter activities. The Easter egg hunts will begin at 1 p.m. and will be divided into different age groups. Games\, crafts\, cake walk\, and a photo op with the Easter Bunny will be provided throughout the day as well as live bunnies to meet and pet. Admission is $5 per child and the cake walk is $1 per ticket. The Historic Staunton River Foundation will be providing food and drinks for an additional fee.
X-ALT-DESC;FMTTYPE=text/html:Grab your Easter basket and head over to Staunton River Battlefield State Park for a day filled with Easter activities. The Easter egg hunts will begin at 1 p.m. and will be divided into different age groups. Games\, crafts\, cake walk\, and a photo op with the Easter Bunny will be provided throughout the day as well as live bunnies to meet and pet. Admission is $5 per child and the cake walk is $1 per ticket. The Historic Staunton River Foundation will be providing food and drinks for an additional fee.
LOCATION:1035 Fort Hill Trail\, Randolph\, VA 23962
UID:e.845.12039
SEQUENCE:3
DTSTAMP:20260421T093526Z
URL:https://business.halifaxchamber.net/events/details/lunch-with-easter-bunny-and-eggstravaganza-12039
END:VEVENT

END:VCALENDAR
