BEGIN:VCALENDAR
VERSION:2.0
PRODID:-//ChamberMaster//Event Calendar 2.0//EN
METHOD:PUBLISH
X-PUBLISHED-TTL:P3D
REFRESH-INTERVAL:P3D
CALSCALE:GREGORIAN
BEGIN:VEVENT
DTSTART:20210612T130000Z
DTEND:20210612T160000Z
X-MICROSOFT-CDO-ALLDAYEVENT:FALSE
SUMMARY:Make & Take Fairy Garden
DESCRIPTION:Join the Halifax Market Place for this kids workshop outside the market.
X-ALT-DESC;FMTTYPE=text/html:Join the Halifax Market Place for this kids workshop outside the market.
LOCATION:Halifax Market Place 209 S. Main St. Halifax\, VA 24558
UID:e.845.18028
SEQUENCE:3
DTSTAMP:20260419T123746Z
URL:https://business.halifaxchamber.net/events/details/make-take-fairy-garden-18028
END:VEVENT

END:VCALENDAR
