BEGIN:VCALENDAR
VERSION:2.0
PRODID:-//ChamberMaster//Event Calendar 2.0//EN
METHOD:PUBLISH
X-PUBLISHED-TTL:P3D
REFRESH-INTERVAL:P3D
CALSCALE:GREGORIAN
BEGIN:VEVENT
DTSTART:20200414T161500Z
DTEND:20200414T171500Z
X-MICROSOFT-CDO-ALLDAYEVENT:FALSE
SUMMARY:Managing Vendor Relationships During COVID-19
DESCRIPTION:Jamie Reynolds\, from FinTeam Business Consulting and an advisor mentor for the SBDC   Lynchburg Region\, will be discussing how small to mid-size business can negotiate with suppliers and reduce other operating expenses during this pandemic. He will also give advice on managing loans and grants so they last until we reach the "other side".
X-ALT-DESC;FMTTYPE=text/html:<span style="font-size: 14px\; color: rgb(35\, 35\, 51)\; font-family: Verdana\, Geneva\, sans-serif\;">Jamie Reynolds\, from FinTeam Business Consulting and</span><span style="font-size: 14px\; color: rgb(20\, 20\, 19)\; font-family: Verdana\, Geneva\, sans-serif\;">&nbsp\;an a</span><span style="font-size: 15px\; color: rgb(20\, 20\, 19)\; font-family: Verdana\, Geneva\, sans-serif\;">dvisor mentor for the SBDC &ndash\; Lynchburg Region</span><span style="font-size: 14px\; color: rgb(20\, 20\, 19)\; font-family: Verdana\, Geneva\, sans-serif\;">\,</span><span style="font-size: 14px\; color: rgb(35\, 35\, 51)\; font-family: Verdana\, Geneva\, sans-serif\;">&nbsp\;will be discussing how small to mid-size business can negotiate with suppliers and reduce other operating expenses during this pandemic. He will also give advice on managing loans and grants so they last until we reach the &ldquo\;other side&rdquo\;.</span>
LOCATION:Register at: https://zoom.us/webinar/register/WN_RjTZ1x18RTiyTyvYyz2zIQ
UID:e.845.17570
SEQUENCE:3
DTSTAMP:20260420T114446Z
URL:https://business.halifaxchamber.net/events/details/managing-vendor-relationships-during-covid-19-17570
END:VEVENT

END:VCALENDAR
