BEGIN:VCALENDAR
VERSION:2.0
PRODID:-//ChamberMaster//Event Calendar 2.0//EN
METHOD:PUBLISH
X-PUBLISHED-TTL:P3D
REFRESH-INTERVAL:P3D
CALSCALE:GREGORIAN
BEGIN:VEVENT
DTSTART:20170616T130000Z
DTEND:20170616T210000Z
X-MICROSOFT-CDO-ALLDAYEVENT:FALSE
SUMMARY:MANNA "The Natural Experience" Grand Opening and Ribbon Cutting
DESCRIPTION:MANNA "The Natural Experience" is opening Friday! Join us for their grand opening from 9AM - 5PM and their ribbon cutting at 11:00AM.
X-ALT-DESC;FMTTYPE=text/html:MANNA &quot\;The Natural Experience&quot\; is opening Friday! Join us for their grand opening from 9AM - 5PM and their ribbon cutting at 11:00AM.
LOCATION:MANNA "The Natural Experience" 217B Main Street South Boston\, VA
UID:e.845.5995
SEQUENCE:3
DTSTAMP:20260422T233125Z
URL:https://business.halifaxchamber.net/events/details/manna-the-natural-experience-grand-opening-and-ribbon-cutting-5995
END:VEVENT

END:VCALENDAR
