BEGIN:VCALENDAR
VERSION:2.0
PRODID:-//ChamberMaster//Event Calendar 2.0//EN
METHOD:PUBLISH
X-PUBLISHED-TTL:P3D
REFRESH-INTERVAL:P3D
CALSCALE:GREGORIAN
BEGIN:VEVENT
DTSTART:20170520T220000Z
DTEND:20170521T010000Z
X-MICROSOFT-CDO-ALLDAYEVENT:FALSE
SUMMARY:Market Stroll Swine
DESCRIPTION:Where cork meets pork!\n\nLive music\, local foods\,\, beer & wine garden. Kids activity area featuring Halifax County South Boston Public Library.\n\n\n\nSponsored by Hudson Heritage Farms\, Hunting Creek Vineyards\, Blue Ridge Beverage\, Halifax Farmers Market\n\n\n\nLive Music with Turkey Scratch 6-9 pm\n\n\n\nProper ID required for alcohol consumption\, NO COOLERS ALLOWED
X-ALT-DESC;FMTTYPE=text/html:Where cork meets pork!<br />\nLive music\, local foods\,\, beer &amp\; wine garden. Kids activity area featuring Halifax County South Boston Public Library.<br />\n<br />\nSponsored by Hudson Heritage Farms\, Hunting Creek Vineyards\, Blue Ridge Beverage\, Halifax Farmers Market<br />\n<br />\nLive Music with Turkey Scratch 6-9 pm<br />\n<br />\nProper ID required for alcohol consumption\, NO COOLERS ALLOWED
LOCATION:Town of Halifax Farmers Market
UID:e.845.5868
SEQUENCE:3
DTSTAMP:20260422T232548Z
URL:https://business.halifaxchamber.net/events/details/market-stroll-swine-5868
END:VEVENT

END:VCALENDAR
