BEGIN:VCALENDAR
VERSION:2.0
PRODID:-//ChamberMaster//Event Calendar 2.0//EN
METHOD:PUBLISH
X-PUBLISHED-TTL:P3D
REFRESH-INTERVAL:P3D
CALSCALE:GREGORIAN
BEGIN:VEVENT
DTSTART:20200304T140000Z
DTEND:20200304T160000Z
X-MICROSOFT-CDO-ALLDAYEVENT:FALSE
SUMMARY:Marketing 101
DESCRIPTION:Join Ilsa Loeser in this crash course on how to brand\, position and market your amazing business. The course will focus on digital channels such as websites\, social media and email campaigns. \n\n\n\nADVANCE REGISTRATION IS REQUIRED TO ATTEND
X-ALT-DESC;FMTTYPE=text/html:Join&nbsp\;Ilsa Loeser&nbsp\;in this crash course on how to brand\, position and market your amazing business. The course will focus on digital channels such as websites\, social media and email campaigns.&nbsp\;<br />\n<br />\nADVANCE REGISTRATION IS REQUIRED TO ATTEND
LOCATION:Southern Virginia Higher Education Center 820 Bruce Street South Boston\, VA 24592
UID:e.845.15652
SEQUENCE:3
DTSTAMP:20260420T145855Z
URL:https://business.halifaxchamber.net/events/details/marketing-101-15652
END:VEVENT

END:VCALENDAR
