BEGIN:VCALENDAR
VERSION:2.0
PRODID:-//ChamberMaster//Event Calendar 2.0//EN
METHOD:PUBLISH
X-PUBLISHED-TTL:P3D
REFRESH-INTERVAL:P3D
CALSCALE:GREGORIAN
BEGIN:VEVENT
DTSTART:20181101T130000Z
DTEND:20181101T150000Z
X-MICROSOFT-CDO-ALLDAYEVENT:FALSE
SUMMARY:Marketing 101 with a Holiday Twist
DESCRIPTION:A crash course on how to brand\, position\, and market your amazing business. The course will focus on digital channels such as websites\, social media and email campaigns.\n\nDuring the two-hour interactive class you will:\n\nDiscover your unique value position\n\nDefine your brand\n\nIdentify your target customer\n\nAudit your current marketing channels\n\nPriorotize new market channels and advertising\n\nNext steps to grow your marketing efforts\n\nExplore creative ways to use the holidays to catapult your marketing efforts year round\n\nWhether you are a business owner\, nonprofit director\, freelancer or CEO you will learn something new and applicable to your organization. Lisa Loeser uses real-world examples from Southern Virginia organizations that are telling their story in a new and compelling ways\, leading to followers\, clients and sales.\n\n\n\nRegistration is required at http://www.sbdc-longwood.com/training
X-ALT-DESC;FMTTYPE=text/html:A crash course on how to brand\, position\, and market your amazing business. The course will focus on digital channels such as websites\, social media and email campaigns.<br />\nDuring the two-hour interactive class you will:<br />\nDiscover your unique value position<br />\nDefine your brand<br />\nIdentify your target customer<br />\nAudit your current marketing channels<br />\nPriorotize new market channels and advertising<br />\nNext steps to grow your marketing efforts<br />\nExplore creative ways to use the holidays to catapult your marketing efforts year round<br />\nWhether you are a business owner\, nonprofit director\, freelancer or CEO you will learn something new and applicable to your organization. Lisa Loeser uses real-world examples from Southern Virginia organizations that are telling their story in a new and compelling ways\, leading to followers\, clients and sales.<br />\n<br />\nRegistration is required at&nbsp\;http://www.sbdc-longwood.com/training
LOCATION:Southern VIrginia HIgher Education Center
UID:e.845.8552
SEQUENCE:3
DTSTAMP:20260421T154815Z
URL:https://business.halifaxchamber.net/events/details/marketing-101-with-a-holiday-twist-8552
END:VEVENT

END:VCALENDAR
