BEGIN:VCALENDAR
VERSION:2.0
PRODID:-//ChamberMaster//Event Calendar 2.0//EN
METHOD:PUBLISH
X-PUBLISHED-TTL:P3D
REFRESH-INTERVAL:P3D
CALSCALE:GREGORIAN
BEGIN:VEVENT
DTSTART:20180607T213000Z
DTEND:20180607T230000Z
X-MICROSOFT-CDO-ALLDAYEVENT:FALSE
SUMMARY:Marketing Plan Development and Updating
DESCRIPTION:To train small businesses on how to successfully put together a marketing plan. This hands-on training will provide the opportunity for small business owners to learn about the components of a marketing plan and how to write one.Come and start writing one today.\n\n\n\nPresenter: Sandra Tanner\, VA Tourism Development Specialist
X-ALT-DESC;FMTTYPE=text/html:To train small businesses on how to successfully put together a marketing plan. This hands-on training will provide the opportunity for small business owners to learn about the components of a marketing plan and how to write one.Come and start writing one today.<br />\n<br />\nPresenter: Sandra Tanner\, VA Tourism Development Specialist
LOCATION:Halifax County Agricultural Marketing Center 1001 Farm Way Lane Scottsburg\, VA 24589
UID:e.845.8438
SEQUENCE:3
DTSTAMP:20260422T014626Z
URL:https://business.halifaxchamber.net/events/details/marketing-plan-development-and-updating-8438
END:VEVENT

END:VCALENDAR
