BEGIN:VCALENDAR
VERSION:2.0
PRODID:-//ChamberMaster//Event Calendar 2.0//EN
METHOD:PUBLISH
X-PUBLISHED-TTL:P3D
REFRESH-INTERVAL:P3D
CALSCALE:GREGORIAN
BEGIN:VEVENT
DTSTART:20200610T180000Z
DTEND:20200610T190000Z
X-MICROSOFT-CDO-ALLDAYEVENT:FALSE
SUMMARY:Marketing Plan Reboot
DESCRIPTION:This short course is a class and interactive Q&A to help you:\n\n \n\n\n	Focus on your brand\n	Hone your marketing plan \n	Be proactive about how to grow your business after COVID-19\n	Gain insight from a team of communications professionals\n\n\n \n\nBy the end of this class you'll have a simplified two-page marketing plan\, prioritized goals and a clear sense of your brand. \n\n \n\nThis course is made up of a short training video\, individual business question support\, worksheets and an hour-long Q&A with a Letterpress instructor.
X-ALT-DESC;FMTTYPE=text/html:<div style="caret-color: rgb(37\, 78\, 112)\; color: rgb(37\, 78\, 112)\; font-family: &quot\;Century Gothic&quot\;\, Calibri\, Helvetica\, Arial\, sans-serif\; font-size: 14px\; text-size-adjust: auto\;"><span style="font-size:12px\;"><span style="color: rgb(84\, 65\, 11)\;">This short course is a class and interactive Q&amp\;A to help you:</span></span></div>\n\n<div style="caret-color: rgb(37\, 78\, 112)\; color: rgb(37\, 78\, 112)\; font-family: &quot\;Century Gothic&quot\;\, Calibri\, Helvetica\, Arial\, sans-serif\; font-size: 14px\; text-size-adjust: auto\;">&nbsp\;</div>\n\n<ul style="padding-right: 0px\; padding-left: 0px\; margin: 0px 0px 0px 40px\; caret-color: rgb(37\, 78\, 112)\; color: rgb(37\, 78\, 112)\; font-family: &quot\;Century Gothic&quot\;\, Calibri\, Helvetica\, Arial\, sans-serif\; font-size: 14px\; text-size-adjust: auto\;">\n	<li style="padding: 0px\; margin: 0px\; line-height: 1.2\; font-size: 16px\; color: rgb(84\, 65\, 11)\;"><span style="font-size:12px\;"><span style="font-weight: bold\;">Focus on your brand</span></span></li>\n	<li style="padding: 0px\; margin: 0px\; line-height: 1.2\; font-size: 16px\; color: rgb(84\, 65\, 11)\;"><span style="font-size:12px\;"><span style="font-weight: bold\;">Hone your marketing plan&nbsp\;</span></span></li>\n	<li style="padding: 0px\; margin: 0px\; line-height: 1.2\; font-size: 16px\; color: rgb(84\, 65\, 11)\;"><span style="font-size:12px\;"><span style="font-weight: bold\;">Be proactive about how to grow your business after COVID-19</span></span></li>\n	<li style="padding: 0px\; margin: 0px\; line-height: 1.2\; font-size: 16px\; color: rgb(84\, 65\, 11)\;"><span style="font-size:12px\;"><span style="font-weight: bold\;">Gain insight from a team of communications professionals</span></span></li>\n</ul>\n\n<div style="caret-color: rgb(37\, 78\, 112)\; color: rgb(37\, 78\, 112)\; font-family: &quot\;Century Gothic&quot\;\, Calibri\, Helvetica\, Arial\, sans-serif\; font-size: 14px\; text-size-adjust: auto\;">&nbsp\;</div>\n\n<div style="caret-color: rgb(37\, 78\, 112)\; color: rgb(37\, 78\, 112)\; font-family: &quot\;Century Gothic&quot\;\, Calibri\, Helvetica\, Arial\, sans-serif\; font-size: 14px\; text-size-adjust: auto\;"><span style="font-size:12px\;"><span style="color: rgb(84\, 65\, 11)\;">By the end of this class you&rsquo\;ll have a simplified two-page marketing plan\, prioritized goals and a clear sense of your brand.&nbsp\;</span></span></div>\n\n<div style="caret-color: rgb(37\, 78\, 112)\; color: rgb(37\, 78\, 112)\; font-family: &quot\;Century Gothic&quot\;\, Calibri\, Helvetica\, Arial\, sans-serif\; font-size: 14px\; text-size-adjust: auto\;">&nbsp\;</div>\n\n<div style="caret-color: rgb(37\, 78\, 112)\; color: rgb(37\, 78\, 112)\; font-family: &quot\;Century Gothic&quot\;\, Calibri\, Helvetica\, Arial\, sans-serif\; font-size: 14px\; text-size-adjust: auto\;"><span style="font-size:12px\;"><span style="color: rgb(84\, 65\, 11)\;">This course is made up of a short training video\, individual business question support\,&nbsp\;worksheets and an hour-long Q&amp\;A with a Letterpress instructor.</span></span></div>\n
LOCATION:Register at: https://clients.virginiasbdc.org/workshop.aspx?ekey=90400029
UID:e.845.17611
SEQUENCE:3
DTSTAMP:20260420T082101Z
URL:https://business.halifaxchamber.net/events/details/marketing-plan-reboot-17611
END:VEVENT

END:VCALENDAR
