BEGIN:VCALENDAR
VERSION:2.0
PRODID:-//ChamberMaster//Event Calendar 2.0//EN
METHOD:PUBLISH
X-PUBLISHED-TTL:P3D
REFRESH-INTERVAL:P3D
CALSCALE:GREGORIAN
BEGIN:VEVENT
DTSTART:20200428T170000Z
DTEND:20200428T180000Z
X-MICROSOFT-CDO-ALLDAYEVENT:FALSE
SUMMARY:Marketing & Promoting Your Business on the Web
DESCRIPTION:There's nothing more important than promoting your business after you've done all the hard work to get your products\, services and other business operations into place. But\, if you build it\, they will not come unless you're screaming from the proverbial mountain tops.\n\n \n\nAnd\, that's what digital marketing is for. Come to this Webinar to learn how to develop a marketing strategy beyond product development and pricing\, to establish the strategy and promotions to drive revenues.\n\n \n\nWe'll cover a number of strategies and tactics for getting noticed in a noisy world.\n\n\n\nPresented by: Ray Sidney-Smith
X-ALT-DESC;FMTTYPE=text/html:<div align="left" style="color: rgb(64\, 63\, 66)\; font-family: Arial\, Verdana\, Helvetica\, sans-serif\; font-size: 12px\;"><span style="font-size: 14px\;">There&rsquo\;s nothing more important than promoting your business after you&rsquo\;ve done all the hard work to get your products\, services and other business operations into place. But\, if you build it\, they will not come unless you&rsquo\;re screaming from the proverbial mountain tops.</span></div>\n\n<div align="left" style="color: rgb(64\, 63\, 66)\; font-family: Arial\, Verdana\, Helvetica\, sans-serif\; font-size: 12px\;"><span style="font-size: 14px\;">&nbsp\;</span></div>\n\n<div align="left" style="color: rgb(64\, 63\, 66)\; font-family: Arial\, Verdana\, Helvetica\, sans-serif\; font-size: 12px\;"><span style="font-size: 14px\;">And\, that&rsquo\;s what digital marketing is for. Come to this Webinar to learn how to develop a marketing strategy beyond product development and pricing\, to establish the strategy and promotions to drive revenues.</span></div>\n\n<div align="left" style="color: rgb(64\, 63\, 66)\; font-family: Arial\, Verdana\, Helvetica\, sans-serif\; font-size: 12px\;"><span style="font-size: 14px\;">&nbsp\;</span></div>\n\n<div align="left" style="color: rgb(64\, 63\, 66)\; font-family: Arial\, Verdana\, Helvetica\, sans-serif\; font-size: 12px\;"><span style="font-size: 14px\;">We&rsquo\;ll cover a number of strategies and tactics for getting noticed in a noisy world.<br />\n<br />\nPresented by: Ray Sidney-Smith</span></div>\n
LOCATION:Register at: https://clients.virginiasbdc.org/workshop.aspx?ekey=900400010
UID:e.845.17577
SEQUENCE:3
DTSTAMP:20260420T114721Z
URL:https://business.halifaxchamber.net/events/details/marketing-promoting-your-business-on-the-web-17577
END:VEVENT

END:VCALENDAR
