BEGIN:VCALENDAR
VERSION:2.0
PRODID:-//ChamberMaster//Event Calendar 2.0//EN
METHOD:PUBLISH
X-PUBLISHED-TTL:P3D
REFRESH-INTERVAL:P3D
CALSCALE:GREGORIAN
BEGIN:VEVENT
DTSTART:20190302T020000Z
DTEND:20190302T045500Z
X-MICROSOFT-CDO-ALLDAYEVENT:FALSE
SUMMARY:Marty Moore & Trevor Daniel at the World of Sports
DESCRIPTION:Island Fire Productions and World of Sports presents\n\n\n\nMarty C Moore & Trevor Daniel\n\n\n\nperforming LIVE acoustic duo\n\nclassic rock\, 90's\, reggae\n\n\n\nFRIDAY\, MARCH 1ST\, 2019\n\n\n\nShow starts @ 9pm\n\n\n\nNo Cover \n\n\n\n2030 Bill Tuck Hwy\n\nSouth Boston\, VA 24592\n\n(434) 572-2695\n\n\n\nFor music\, videos\, shows and more visit us at:\n\nwww.reverbnation.com/martycmoore\n\nwww.reverbnation.com/trevordanielandthereef\n\nwww.worldofsportsfun.com/jbs
X-ALT-DESC;FMTTYPE=text/html:<a href="https://www.facebook.com/islandfireproductions/" style="color: rgb(54\, 88\, 153)\; cursor: pointer\; text-decoration: none\; font-family: system-ui\, -apple-system\, BlinkMacSystemFont\, &quot\;.SFNSText-Regular&quot\;\, sans-serif\; font-size: 14px\; white-space: pre-wrap\;" target="_blank">Island Fire Productions</a><span style="color:rgb(29\, 33\, 41)\; font-family:system-ui\,-apple-system\,blinkmacsystemfont\,.sfnstext-regular\,sans-serif\; font-size:14px"> and </span><a href="https://www.facebook.com/sobofuncenter/" style="color: rgb(54\, 88\, 153)\; cursor: pointer\; text-decoration: none\; font-family: system-ui\, -apple-system\, BlinkMacSystemFont\, &quot\;.SFNSText-Regular&quot\;\, sans-serif\; font-size: 14px\; white-space: pre-wrap\;" target="_blank">World of Sports</a><span style="color:rgb(29\, 33\, 41)\; font-family:system-ui\,-apple-system\,blinkmacsystemfont\,.sfnstext-regular\,sans-serif\; font-size:14px"> presents</span><br />\n<br />\n<a href="https://www.facebook.com/marty.moore.9400" style="color: rgb(54\, 88\, 153)\; cursor: pointer\; text-decoration: none\; font-family: system-ui\, -apple-system\, BlinkMacSystemFont\, &quot\;.SFNSText-Regular&quot\;\, sans-serif\; font-size: 14px\; white-space: pre-wrap\;" target="_blank">Marty C Moore</a><span style="color:rgb(29\, 33\, 41)\; font-family:system-ui\,-apple-system\,blinkmacsystemfont\,.sfnstext-regular\,sans-serif\; font-size:14px"> &amp\; </span><a href="https://www.facebook.com/trevordaniel757" style="color: rgb(54\, 88\, 153)\; cursor: pointer\; text-decoration: none\; font-family: system-ui\, -apple-system\, BlinkMacSystemFont\, &quot\;.SFNSText-Regular&quot\;\, sans-serif\; font-size: 14px\; white-space: pre-wrap\;" target="_blank">Trevor Daniel</a><br />\n<br />\n<span style="color:rgb(29\, 33\, 41)\; font-family:system-ui\,-apple-system\,blinkmacsystemfont\,.sfnstext-regular\,sans-serif\; font-size:14px">performing LIVE acoustic duo</span><br />\n<span style="color:rgb(29\, 33\, 41)\; font-family:system-ui\,-apple-system\,blinkmacsystemfont\,.sfnstext-regular\,sans-serif\; font-size:14px">classic rock\, 90&#39\;s\, reggae</span><br />\n<br />\n<span style="color:rgb(29\, 33\, 41)\; font-family:system-ui\,-apple-system\,blinkmacsystemfont\,.sfnstext-regular\,sans-serif\; font-size:14px">FRIDAY\, MARCH 1ST\, 2019</span><br />\n<br />\n<span style="color:rgb(29\, 33\, 41)\; font-family:system-ui\,-apple-system\,blinkmacsystemfont\,.sfnstext-regular\,sans-serif\; font-size:14px">Show starts @ 9pm</span><br />\n<br />\n<span style="color:rgb(29\, 33\, 41)\; font-family:system-ui\,-apple-system\,blinkmacsystemfont\,.sfnstext-regular\,sans-serif\; font-size:14px">No Cover&nbsp\;</span><br />\n<br />\n<span style="color:rgb(29\, 33\, 41)\; font-family:system-ui\,-apple-system\,blinkmacsystemfont\,.sfnstext-regular\,sans-serif\; font-size:14px">2030 Bill Tuck Hwy</span><br />\n<span style="color:rgb(29\, 33\, 41)\; font-family:system-ui\,-apple-system\,blinkmacsystemfont\,.sfnstext-regular\,sans-serif\; font-size:14px">South Boston\, VA 24592</span><br />\n<span style="color:rgb(29\, 33\, 41)\; font-family:system-ui\,-apple-system\,blinkmacsystemfont\,.sfnstext-regular\,sans-serif\; font-size:14px">(434) 572-2695</span><br />\n<br />\n<span style="color:rgb(29\, 33\, 41)\; font-family:system-ui\,-apple-system\,blinkmacsystemfont\,.sfnstext-regular\,sans-serif\; font-size:14px">For music\, videos\, shows and more visit us at:</span><br />\n<a href="http://www.reverbnation.com/martycmoore?fbclid=IwAR3KLb88vS7NS9svnRzuwLvbZEpn-Oph3Y6zMPncBqYiPyneN5SpX5AINS8" rel="nofollow noopener" style="color: rgb(54\, 88\, 153)\; cursor: pointer\; text-decoration: none\; font-family: system-ui\, -apple-system\, BlinkMacSystemFont\, &quot\;.SFNSText-Regular&quot\;\, sans-serif\; font-size: 14px\; white-space: pre-wrap\;" target="_blank">www.reverbnation.com/martycmoore</a><br />\n<a href="http://www.reverbnation.com/trevordanielandthereef?fbclid=IwAR1U8NxAZ6Mm-FgCFIxdqpdEQGIMDrE735oHJ-Wrb0ikEU0x1UfvDRw1yLE" rel="nofollow noopener" style="color: rgb(54\, 88\, 153)\; cursor: pointer\; text-decoration: none\; font-family: system-ui\, -apple-system\, BlinkMacSystemFont\, &quot\;.SFNSText-Regular&quot\;\, sans-serif\; font-size: 14px\; white-space: pre-wrap\;" target="_blank">www.reverbnation.com/trevordanielandthereef</a><br />\n<a href="http://www.worldofsportsfun.com/jbs?fbclid=IwAR0yE0SJHMnHQk_VV7j2kw6u2CnylEBjj4_GCgOTqWnJoI9FYazXbc7eVTo" rel="nofollow noopener" style="color: rgb(54\, 88\, 153)\; cursor: pointer\; text-decoration: none\; font-family: system-ui\, -apple-system\, BlinkMacSystemFont\, &quot\;.SFNSText-Regular&quot\;\, sans-serif\; font-size: 14px\; white-space: pre-wrap\;" target="_blank">www.worldofsportsfun.com/jbs</a>
LOCATION:World of Sports 2030 Bill Tuck Highway South Boston\, VA 24592
UID:e.845.12057
SEQUENCE:3
DTSTAMP:20260421T094205Z
URL:https://business.halifaxchamber.net/events/details/marty-moore-trevor-daniel-at-the-world-of-sports-12057
END:VEVENT

END:VCALENDAR
