BEGIN:VCALENDAR
VERSION:2.0
PRODID:-//ChamberMaster//Event Calendar 2.0//EN
METHOD:PUBLISH
X-PUBLISHED-TTL:P3D
REFRESH-INTERVAL:P3D
CALSCALE:GREGORIAN
BEGIN:VEVENT
DTSTART:20190628T233000Z
DTEND:20190629T013000Z
X-MICROSOFT-CDO-ALLDAYEVENT:FALSE
SUMMARY:"Mary Poppins" Summer Theatre
DESCRIPTION:Mary Poppins Show dates are as follows:\n\nJune 21 - 7:30pm - June 22 - 7:30pm- June 23 - 3:00pm June 26 - 3:00pm June 28 - 7:30pm June 29 - 7:30pm June 30 - 3:00pm July 3 - 3:00pm July 5 - 7:30pm July 6 - 3:00pm July 6 - 3:00pm
X-ALT-DESC;FMTTYPE=text/html:Mary Poppins Show dates are as follows:<br />\nJune 21 - 7:30pm - June 22 - 7:30pm- June 23 - 3:00pm June 26 - 3:00pm June 28 - 7:30pm June 29 - 7:30pm June 30 - 3:00pm July 3 - 3:00pm July 5 - 7:30pm July 6 - 3:00pm July 6 - 3:00pm
LOCATION:THE PRIZERY 700 Bruce Street South Boston\, VA 24592
UID:e.845.12411
SEQUENCE:3
DTSTAMP:20260421T044631Z
URL:https://business.halifaxchamber.net/events/details/mary-poppins-summer-theatre-06-28-2019-12411
END:VEVENT

END:VCALENDAR
