BEGIN:VCALENDAR
VERSION:2.0
PRODID:-//ChamberMaster//Event Calendar 2.0//EN
METHOD:PUBLISH
X-PUBLISHED-TTL:P3D
REFRESH-INTERVAL:P3D
CALSCALE:GREGORIAN
BEGIN:VEVENT
DTSTART:20170909T120000Z
DTEND:20170909T150000Z
X-MICROSOFT-CDO-ALLDAYEVENT:FALSE
SUMMARY:Master Gardener Small Tool Sharpening Workshop
DESCRIPTION:
X-ALT-DESC;FMTTYPE=text/html:
LOCATION:Town of Halifax Farmers Market 209 South Main St. Halifax\, VA 24558
UID:e.845.5845
SEQUENCE:3
DTSTAMP:20260422T155504Z
URL:https://business.halifaxchamber.net/events/details/master-gardener-small-tool-sharpening-workshop-5845
END:VEVENT

END:VCALENDAR
