BEGIN:VCALENDAR
VERSION:2.0
PRODID:-//ChamberMaster//Event Calendar 2.0//EN
METHOD:PUBLISH
X-PUBLISHED-TTL:P3D
REFRESH-INTERVAL:P3D
CALSCALE:GREGORIAN
BEGIN:VEVENT
DTSTART:20170708T120000Z
DTEND:20170708T150000Z
X-MICROSOFT-CDO-ALLDAYEVENT:FALSE
SUMMARY:Master Gardener Workshop
DESCRIPTION:Master Gardener Workshop at the Town of Halifax Farmers Market - Make your own Hypertufa Workshop & Southside Virginia Herb Society
X-ALT-DESC;FMTTYPE=text/html:Master Gardener Workshop at the Town of Halifax Farmers Market - Make your own Hypertufa Workshop &amp\; Southside Virginia&nbsp\;Herb Society
LOCATION:Town of Halifax Farmers Market 209 South Main St. Halifax\, VA 24558
UID:e.845.5843
SEQUENCE:3
DTSTAMP:20260422T194025Z
URL:https://business.halifaxchamber.net/events/details/master-gardener-workshop-5843
END:VEVENT

END:VCALENDAR
