BEGIN:VCALENDAR
VERSION:2.0
PRODID:-//ChamberMaster//Event Calendar 2.0//EN
METHOD:PUBLISH
X-PUBLISHED-TTL:P3D
REFRESH-INTERVAL:P3D
CALSCALE:GREGORIAN
BEGIN:VEVENT
DTSTART:20190511T120000Z
DTEND:20190511T150000Z
X-MICROSOFT-CDO-ALLDAYEVENT:FALSE
SUMMARY:Master Gardeners
DESCRIPTION:To celebrate Mother's Day the Southside Master Gardeners will help kids pot up a plant for Mother. Bring your small garden tools for a free cleaning and sharpening. Master Gardeners will be available to answer all your gardening questions.
X-ALT-DESC;FMTTYPE=text/html:To celebrate Mother&#39\;s Day the Southside Master Gardeners will help kids pot up a plant for Mother. Bring your small garden tools for a free cleaning and sharpening. Master Gardeners will be available to answer all your gardening questions.
LOCATION:Halifax Farmers Market 209 South Main Street Halifax\, Va 24558
UID:e.845.12487
SEQUENCE:3
DTSTAMP:20260421T062321Z
URL:https://business.halifaxchamber.net/events/details/master-gardeners-12487
END:VEVENT

END:VCALENDAR
