BEGIN:VCALENDAR
VERSION:2.0
PRODID:-//ChamberMaster//Event Calendar 2.0//EN
METHOD:PUBLISH
X-PUBLISHED-TTL:P3D
REFRESH-INTERVAL:P3D
CALSCALE:GREGORIAN
BEGIN:VEVENT
DTSTART:20191026T150000Z
DTEND:20191026T170000Z
X-MICROSOFT-CDO-ALLDAYEVENT:FALSE
SUMMARY:Master Gardeners - Companion Planting with Herbs
DESCRIPTION:Join Master Gardeners to discuss companion planting with herbs. Learn how to pair herbs with ornaments\, fruits and vegetables.
X-ALT-DESC;FMTTYPE=text/html:Join Master Gardeners to discuss companion planting with herbs. Learn how to pair herbs with ornaments\, fruits and vegetables.
LOCATION:South Boston Halifax County Museum 1540 Wilborn Avenue South Boston\, VA 24592
UID:e.845.14465
SEQUENCE:3
DTSTAMP:20260420T234354Z
URL:https://business.halifaxchamber.net/events/details/master-gardeners-companion-planting-with-herbs-14465
END:VEVENT

END:VCALENDAR
