BEGIN:VCALENDAR
VERSION:2.0
PRODID:-//ChamberMaster//Event Calendar 2.0//EN
METHOD:PUBLISH
X-PUBLISHED-TTL:P3D
REFRESH-INTERVAL:P3D
CALSCALE:GREGORIAN
BEGIN:VEVENT
DTSTART:20190608T120000Z
DTEND:20190608T150000Z
X-MICROSOFT-CDO-ALLDAYEVENT:FALSE
SUMMARY:Master Gardeners - Fairy Garden Contest
DESCRIPTION:The Southside Master Gardener Association will hold a Fairy Garden Contest. This contest is free to the public and prizes and ribbons will be awarded.\n\nPlease bring your gardens between 8 and 9:45 a.m.\n\nThe Fairy Gardens will be judged by two separate panels of independent judges: one for youth 16 and under and one for adults 17 and over. You may vote for People's Choice between 10 and 11. Winners will be announced shortly after.
X-ALT-DESC;FMTTYPE=text/html:The Southside Master Gardener Association will hold a Fairy Garden Contest. This contest is free to the public and prizes and ribbons will be awarded.<br />\n<span style="color: rgb(34\, 34\, 34)\; font-family: Arial\, sans-serif\; white-space: pre-wrap\;">Please bring your gardens between 8 and 9:45 a.m.</span><br style="color: rgb(34\, 34\, 34)\; font-family: Arial\, sans-serif\; white-space: pre-wrap\;" />\n<span style="color: rgb(34\, 34\, 34)\; font-family: Arial\, sans-serif\; white-space: pre-wrap\;">The Fairy Gardens will be judged by two separate panels of independent judges: one for youth 16 and under and one for adults 17 and over. You may vote for People&#39\;s Choice between 10 and 11. Winners will be announced shortly after.</span>
LOCATION:Halifax Farmer's Market
UID:e.845.13118
SEQUENCE:3
DTSTAMP:20260421T044642Z
URL:https://business.halifaxchamber.net/events/details/master-gardeners-fairy-garden-contest-13118
END:VEVENT

END:VCALENDAR
