BEGIN:VCALENDAR
VERSION:2.0
PRODID:-//ChamberMaster//Event Calendar 2.0//EN
METHOD:PUBLISH
X-PUBLISHED-TTL:P3D
REFRESH-INTERVAL:P3D
CALSCALE:GREGORIAN
BEGIN:VEVENT
DTSTART:20190914T120000Z
DTEND:20190914T150000Z
X-MICROSOFT-CDO-ALLDAYEVENT:FALSE
SUMMARY:Master Gardeners - Garden Tool Sharpening
DESCRIPTION:Bring your gardening tools for a free cleaning and sharpening just in time for winter storage.
X-ALT-DESC;FMTTYPE=text/html:<span style="color: rgb(34\, 34\, 34)\; font-family: Arial\, sans-serif\; white-space: pre-wrap\;">Bring your gardening tools for a free cleaning and sharpening just in time for winter storage.</span>
LOCATION:Halifax Farmers Market 209 South Main Street Halifax\, VA 24558
UID:e.845.13124
SEQUENCE:3
DTSTAMP:20260421T012034Z
URL:https://business.halifaxchamber.net/events/details/master-gardeners-garden-tool-sharpening-13124
END:VEVENT

END:VCALENDAR
