BEGIN:VCALENDAR
VERSION:2.0
PRODID:-//ChamberMaster//Event Calendar 2.0//EN
METHOD:PUBLISH
X-PUBLISHED-TTL:P3D
REFRESH-INTERVAL:P3D
CALSCALE:GREGORIAN
BEGIN:VEVENT
DTSTART:20190713T120000Z
DTEND:20190713T150000Z
X-MICROSOFT-CDO-ALLDAYEVENT:FALSE
SUMMARY:Master Gardeners - Hypertufa
DESCRIPTION:Make and take home a hypertufa container for $5 to cover materials and supplies. Old clothes are recommended.
X-ALT-DESC;FMTTYPE=text/html:<span style="color: rgb(0\, 0\, 0)\; font-family: Arial\, sans-serif\; font-size: small\; white-space: pre-wrap\;">Make and take home a hypertufa container for $5 to cover materials and supplies. Old clothes are recommended.</span>
LOCATION:Halifax Farmers Market 209 South Main Street Halifax\, VA 24558
UID:e.845.13122
SEQUENCE:3
DTSTAMP:20260421T044149Z
URL:https://business.halifaxchamber.net/events/details/master-gardeners-hypertufa-13122
END:VEVENT

END:VCALENDAR
