BEGIN:VCALENDAR
VERSION:2.0
PRODID:-//ChamberMaster//Event Calendar 2.0//EN
METHOD:PUBLISH
X-PUBLISHED-TTL:P3D
REFRESH-INTERVAL:P3D
CALSCALE:GREGORIAN
BEGIN:VEVENT
DTSTART:20190810T133000Z
DTEND:20190811T023000Z
X-MICROSOFT-CDO-ALLDAYEVENT:FALSE
SUMMARY:Master Gardeners - Perennial Care
DESCRIPTION:A special demo at 9:30 of how to divide perennials. Master Gardeners will be available to help you answer all your gardening questions.
X-ALT-DESC;FMTTYPE=text/html:<span style="color: rgb(0\, 0\, 0)\; font-family: Arial\, sans-serif\; font-size: small\; white-space: pre-wrap\;">A special demo at 9:30 of how to divide perennials. Master Gardeners will be available to help you answer all your gardening questions.</span>
LOCATION:Halifax Farmers Market 209 South Main Street Halifax\, VA 24558
UID:e.845.13123
SEQUENCE:3
DTSTAMP:20260421T012441Z
URL:https://business.halifaxchamber.net/events/details/master-gardeners-perennial-care-13123
END:VEVENT

END:VCALENDAR
