BEGIN:VCALENDAR
VERSION:2.0
PRODID:-//ChamberMaster//Event Calendar 2.0//EN
METHOD:PUBLISH
X-PUBLISHED-TTL:P3D
REFRESH-INTERVAL:P3D
CALSCALE:GREGORIAN
BEGIN:VEVENT
DTSTART:20170513T120000Z
DTEND:20170513T150000Z
X-MICROSOFT-CDO-ALLDAYEVENT:FALSE
SUMMARY:Master Gardeners Pot Up a Plant for Mother's Day Workshop
DESCRIPTION:Master Gardeners Small Tool Sharpening & Pot Up a Plant for Mother's Day Workshop at the Town of Halifax Farmers Market.
X-ALT-DESC;FMTTYPE=text/html:Master Gardeners Small Tool Sharpening &amp\; Pot Up a Plant for Mother&#39\;s Day Workshop at the Town of Halifax Farmers Market.<br />\n<br />\n&nbsp\;
LOCATION:Town of Halifax Farmers Market 209 South Main Street Halifax\, VA 24558
UID:e.845.5838
SEQUENCE:3
DTSTAMP:20260422T233156Z
URL:https://business.halifaxchamber.net/events/details/master-gardeners-pot-up-a-plant-for-mother-s-day-workshop-5838
END:VEVENT

END:VCALENDAR
