BEGIN:VCALENDAR
VERSION:2.0
PRODID:-//ChamberMaster//Event Calendar 2.0//EN
METHOD:PUBLISH
X-PUBLISHED-TTL:P3D
REFRESH-INTERVAL:P3D
CALSCALE:GREGORIAN
BEGIN:VEVENT
DTSTART:20191019T150000Z
DTEND:20191019T170000Z
X-MICROSOFT-CDO-ALLDAYEVENT:FALSE
SUMMARY:Master Gardeners - The Beauty of Ornamental Grasses
DESCRIPTION:Join Master Gardeners to discuss the beauty and uses of ornamental grass.
X-ALT-DESC;FMTTYPE=text/html:Join Master Gardeners to discuss the beauty and uses of ornamental grass.
LOCATION:South Boston Halifax County Museum 1540 Wilborn Avenue South Boston\, VA 24592
UID:e.845.14464
SEQUENCE:3
DTSTAMP:20260420T221452Z
URL:https://business.halifaxchamber.net/events/details/master-gardeners-the-beauty-of-ornamental-grasses-14464
END:VEVENT

END:VCALENDAR
