BEGIN:VCALENDAR
VERSION:2.0
PRODID:-//ChamberMaster//Event Calendar 2.0//EN
METHOD:PUBLISH
X-PUBLISHED-TTL:P3D
REFRESH-INTERVAL:P3D
CALSCALE:GREGORIAN
BEGIN:VEVENT
DTSTART:20191115T230000Z
DTEND:20191116T030000Z
X-MICROSOFT-CDO-ALLDAYEVENT:FALSE
SUMMARY:Matt Boswell at Springfield Distillery
DESCRIPTION:Enjoy BBQ\, Whiskey and Music by Matt Boswell at Springfield Distillery.\n\nFire pits will be roaring and there will be mulled cider for sipping.
X-ALT-DESC;FMTTYPE=text/html:Enjoy BBQ\, Whiskey and Music by Matt Boswell at Springfield Distillery.<br />\nFire pits will be roaring and there will be mulled cider for sipping.
LOCATION:Springfield Distillery 9040 River Road Halifax\, VA 24558
UID:e.845.14482
SEQUENCE:3
DTSTAMP:20260420T195948Z
URL:https://business.halifaxchamber.net/events/details/matt-boswell-at-springfield-distillery-14482
END:VEVENT

END:VCALENDAR
