BEGIN:VCALENDAR
VERSION:2.0
PRODID:-//ChamberMaster//Event Calendar 2.0//EN
METHOD:PUBLISH
X-PUBLISHED-TTL:P3D
REFRESH-INTERVAL:P3D
CALSCALE:GREGORIAN
BEGIN:VEVENT
DTSTART:20200215T013000Z
DTEND:20200215T043000Z
X-MICROSOFT-CDO-ALLDAYEVENT:FALSE
SUMMARY:Matt Boswell at the World of Sports
DESCRIPTION:Celebrate Valentine's Day with the one and only with Matt Boswell at the World of Sports on Friday\, February 14th.
X-ALT-DESC;FMTTYPE=text/html:<span style="color:#333333"><span style="font-family:arial\,sans-serif"><span style="font-size:10pt">Celebrate Valentine&rsquo\;s Day with the one and only with Matt Boswell at the World of Sports on Friday\, February 14<sup>th</sup>.&nbsp\;</span></span></span><br />\n<br />\n&nbsp\;
LOCATION:World of Sports 2030 Bill Tuck Highway South Boston\, VA 24592
UID:e.845.11989
SEQUENCE:3
DTSTAMP:20260420T165848Z
URL:https://business.halifaxchamber.net/events/details/matt-boswell-at-the-world-of-sports-11989
END:VEVENT

END:VCALENDAR
