BEGIN:VCALENDAR
VERSION:2.0
PRODID:-//ChamberMaster//Event Calendar 2.0//EN
METHOD:PUBLISH
X-PUBLISHED-TTL:P3D
REFRESH-INTERVAL:P3D
CALSCALE:GREGORIAN
BEGIN:VEVENT
DTSTART:20191228T020000Z
DTEND:20191228T045500Z
X-MICROSOFT-CDO-ALLDAYEVENT:FALSE
SUMMARY:Matt Boswell at the World of Sports
DESCRIPTION:Matt Boswell live at the World of Sports.
X-ALT-DESC;FMTTYPE=text/html:Matt Boswell live at the World of Sports.
LOCATION:World of Sports 2030 Bill Tuck Highway South Boston\, VA 24592
UID:e.845.15570
SEQUENCE:3
DTSTAMP:20260420T183610Z
URL:https://business.halifaxchamber.net/events/details/matt-boswell-at-the-world-of-sports-12-27-2019-15570
END:VEVENT

END:VCALENDAR
