BEGIN:VCALENDAR
VERSION:2.0
PRODID:-//ChamberMaster//Event Calendar 2.0//EN
METHOD:PUBLISH
X-PUBLISHED-TTL:P3D
REFRESH-INTERVAL:P3D
CALSCALE:GREGORIAN
BEGIN:VEVENT
DTSTART:20200314T003000Z
DTEND:20200314T033000Z
X-MICROSOFT-CDO-ALLDAYEVENT:FALSE
SUMMARY:Matt Boswell Live
DESCRIPTION:Celebrate St. Patrick's Day with Matt Boswell Friday\, March 13th.
X-ALT-DESC;FMTTYPE=text/html:<span style="color:rgb(29\, 33\, 41)\; font-family:system-ui\,-apple-system\,system-ui\,.sfnstext-regular\,sans-serif\; font-size:14px">Celebrate St. Patrick&#39\;s Day with Matt Boswell Friday\, March 13th.</span>
LOCATION:World of Sports 2030 Bill Tuck Hwy
UID:e.845.17519
SEQUENCE:3
DTSTAMP:20260420T145948Z
URL:https://business.halifaxchamber.net/events/details/matt-boswell-live-17519
END:VEVENT

END:VCALENDAR
