BEGIN:VCALENDAR
VERSION:2.0
PRODID:-//ChamberMaster//Event Calendar 2.0//EN
METHOD:PUBLISH
X-PUBLISHED-TTL:P3D
REFRESH-INTERVAL:P3D
CALSCALE:GREGORIAN
BEGIN:VEVENT
DTSTART:20170624T010000Z
DTEND:20170624T035500Z
X-MICROSOFT-CDO-ALLDAYEVENT:FALSE
SUMMARY:Matt Boswell Live at Jb's Burgers\, Apps & Taps
DESCRIPTION:Matt Boswell will be performing live at JB's Burgers\, Apps and Taps located in the World of Sports\, Friday\, June 23rd from 9PM - Midnight
X-ALT-DESC;FMTTYPE=text/html:Matt Boswell will be performing live at JB&#39\;s Burgers\, Apps and Taps located in the World of Sports\, Friday\, June 23rd&nbsp\;from 9PM - Midnight
LOCATION:JB's Burgers\, Apps & Taps World of Sports 2030 Bill Tuck Highway
UID:e.845.7005
SEQUENCE:3
DTSTAMP:20260422T212456Z
URL:https://business.halifaxchamber.net/events/details/matt-boswell-live-at-jb-s-burgers-apps-taps-7005
END:VEVENT

END:VCALENDAR
