BEGIN:VCALENDAR
VERSION:2.0
PRODID:-//ChamberMaster//Event Calendar 2.0//EN
METHOD:PUBLISH
X-PUBLISHED-TTL:P3D
REFRESH-INTERVAL:P3D
CALSCALE:GREGORIAN
BEGIN:VEVENT
DTSTART;VALUE=DATE:20201020
DTEND;VALUE=DATE:20201021
TRANSP:TRANSPARENT
X-MICROSOFT-CDO-ALLDAYEVENT:TRUE
SUMMARY:Maximizing Revenues
DESCRIPTION:Some successful small businesses utilize a 3-pronged approach to marketing:\n\n \n\n\n	Winning new customers\n	Prompting existing customers to purchase more frequently\n	Enticing existing customers to spend more money during each transaction\n\n\n \n\nIn this chat\, Join SBDC consultant Vince Magnini as he shares some non-obvious tactics for making this 3-pronged approach the guiding framework in your small business' marketing efforts.
X-ALT-DESC;FMTTYPE=text/html:<div style="caret-color: rgb(37\, 78\, 112)\; color: rgb(37\, 78\, 112)\; font-family: &quot\;Century Gothic&quot\;\, Calibri\, Helvetica\, Arial\, sans-serif\; font-size: 14px\; text-size-adjust: auto\;"><span style="color:#000000\;"><span style="font-size: 16px\;">Some successful small businesses utilize a 3-pronged approach to marketing:</span></span></div>\n\n<div style="caret-color: rgb(37\, 78\, 112)\; color: rgb(37\, 78\, 112)\; font-family: &quot\;Century Gothic&quot\;\, Calibri\, Helvetica\, Arial\, sans-serif\; font-size: 14px\; text-size-adjust: auto\;">&nbsp\;</div>\n\n<ol style="padding-right: 0px\; padding-left: 0px\; margin: 0px 0px 0px 40px\; caret-color: rgb(37\, 78\, 112)\; color: rgb(37\, 78\, 112)\; font-family: &quot\;Century Gothic&quot\;\, Calibri\, Helvetica\, Arial\, sans-serif\; font-size: 14px\; text-size-adjust: auto\;">\n	<li style="padding: 0px\; margin: 0px\; line-height: 1.2\; font-size: 16px\; color: rgb(117\, 74\, 61)\;"><span style="color:#000000\;"><span style="font-weight: bold\;">Winning new customers</span></span></li>\n	<li style="padding: 0px\; margin: 0px\; line-height: 1.2\; font-size: 16px\; color: rgb(117\, 74\, 61)\;"><span style="color:#000000\;"><span style="font-weight: bold\;">Prompting existing customers to purchase more frequently</span></span></li>\n	<li style="padding: 0px\; margin: 0px\; line-height: 1.2\; font-size: 16px\; color: rgb(117\, 74\, 61)\;"><span style="color:#000000\;"><span style="font-weight: bold\;">Enticing existing customers to spend more money during each transaction</span></span></li>\n</ol>\n\n<div style="caret-color: rgb(37\, 78\, 112)\; color: rgb(37\, 78\, 112)\; font-family: &quot\;Century Gothic&quot\;\, Calibri\, Helvetica\, Arial\, sans-serif\; font-size: 14px\; text-size-adjust: auto\;">&nbsp\;</div>\n\n<div style="caret-color: rgb(37\, 78\, 112)\; color: rgb(37\, 78\, 112)\; font-family: &quot\;Century Gothic&quot\;\, Calibri\, Helvetica\, Arial\, sans-serif\; font-size: 14px\; text-size-adjust: auto\;"><span style="color:#000000\;"><span style="font-size: 16px\;">In this chat\, Join SBDC consultant </span><span style="font-size: 16px\; font-weight: bold\;">Vince Magnini</span><span style="font-size: 16px\;"> as he shares some non-obvious tactics for making this 3-pronged approach the guiding framework in your small business&rsquo\; marketing efforts.</span></span></div>\n
LOCATION:Register via Zoom at: https://us02web.zoom.us/meeting/register/tZcsfuqhpzktHNFTXKz5c5N39qDeWvppg9l7
UID:e.845.17771
SEQUENCE:3
DTSTAMP:20260420T012342Z
URL:https://business.halifaxchamber.net/events/details/maximizing-revenues-17771
END:VEVENT

END:VCALENDAR
