BEGIN:VCALENDAR
VERSION:2.0
PRODID:-//ChamberMaster//Event Calendar 2.0//EN
METHOD:PUBLISH
X-PUBLISHED-TTL:P3D
REFRESH-INTERVAL:P3D
CALSCALE:GREGORIAN
BEGIN:VEVENT
DTSTART:20190709T180000Z
DTEND:20190709T190000Z
X-MICROSOFT-CDO-ALLDAYEVENT:FALSE
SUMMARY:Medicaid Presentation
DESCRIPTION:Join Berry Hill Health & Rehab Center for a presentation on Medicaid benefits and the Medicaid application process.\n\nGuest speaker\, Sara Taylor\, Benefit Programs Supervisor from the Halifax County Department of Social Services.\n\nRefreshments will be served.\n\nContact Barbara Leventon at 434-517-7468 or brh39-adms@berryhillltc.com with questions or to RSVP.
X-ALT-DESC;FMTTYPE=text/html:Join Berry Hill Health &amp\; Rehab Center for a presentation on Medicaid benefits and the Medicaid application process.<br />\nGuest speaker\, Sara Taylor\, Benefit Programs Supervisor from the Halifax County Department of Social Services.<br />\nRefreshments will be served.<br />\nContact Barbara Leventon at 434-517-7468 or brh39-adms@berryhillltc.com with questions or to RSVP.
LOCATION:Berry Hill Health and Rehab Center 621 Berry Hill Rd South Boston\, VA 24592
UID:e.845.13203
SEQUENCE:3
DTSTAMP:20260421T043843Z
URL:https://business.halifaxchamber.net/events/details/medicaid-presentation-13203
END:VEVENT

END:VCALENDAR
