BEGIN:VCALENDAR
VERSION:2.0
PRODID:-//ChamberMaster//Event Calendar 2.0//EN
METHOD:PUBLISH
X-PUBLISHED-TTL:P3D
REFRESH-INTERVAL:P3D
CALSCALE:GREGORIAN
BEGIN:VEVENT
DTSTART:20170625T170000Z
DTEND:20170625T210000Z
X-MICROSOFT-CDO-ALLDAYEVENT:FALSE
SUMMARY:Meet and Greet at Springfield Distillery
DESCRIPTION:Meet NASCAR drivers Peyton Sellers and Colin Garret Sunday\, June 25th at Springfield Distillery.
X-ALT-DESC;FMTTYPE=text/html:Meet NASCAR drivers Peyton Sellers and Colin Garret Sunday\, June 25th&nbsp\;at Springfield Distillery.
LOCATION:Springfield Distillery 9040 River Road Halifax\, VA 24558
UID:e.845.6999
SEQUENCE:3
DTSTAMP:20260422T212350Z
URL:https://business.halifaxchamber.net/events/details/meet-and-greet-at-springfield-distillery-6999
END:VEVENT

END:VCALENDAR
