BEGIN:VCALENDAR
VERSION:2.0
PRODID:-//ChamberMaster//Event Calendar 2.0//EN
METHOD:PUBLISH
X-PUBLISHED-TTL:P3D
REFRESH-INTERVAL:P3D
CALSCALE:GREGORIAN
BEGIN:VEVENT
DTSTART:20190827T203000Z
DTEND:20190827T213000Z
X-MICROSOFT-CDO-ALLDAYEVENT:FALSE
SUMMARY:Meet and Greet with Congressman Denver Riggleman
DESCRIPTION:Join us for a meet and greet session with Congressman Denver Riggleman. Representative of Virginia's 5th District.
X-ALT-DESC;FMTTYPE=text/html:Join us for a meet and greet session with Congressman Denver Riggleman. Representative of Virginia&#39\;s 5th District.
LOCATION:Springfield Distillery 9040 River Road Halifax\, VA 24558
UID:e.845.13267
SEQUENCE:3
DTSTAMP:20260421T012642Z
URL:https://business.halifaxchamber.net/events/details/meet-and-greet-with-congressman-denver-riggleman-13267
END:VEVENT

END:VCALENDAR
