BEGIN:VCALENDAR
VERSION:2.0
PRODID:-//ChamberMaster//Event Calendar 2.0//EN
METHOD:PUBLISH
X-PUBLISHED-TTL:P3D
REFRESH-INTERVAL:P3D
CALSCALE:GREGORIAN
BEGIN:VEVENT
DTSTART:20170722T200000Z
DTEND:20170723T000000Z
X-MICROSOFT-CDO-ALLDAYEVENT:FALSE
SUMMARY:Meet Barnwood Builders\, Tim Rose
DESCRIPTION:Come meet Tim Rose from Barnwood Builders at Springfield Distillery on Saturday\, July 22nd from 4:00 - 8:00PM.\n\n\n\nThe episode of Barnwood Builders (season 2\, episode 10) where the tasting room started will be showed.
X-ALT-DESC;FMTTYPE=text/html:Come meet Tim Rose from Barnwood Builders at Springfield Distillery on Saturday\, July 22nd&nbsp\;from 4:00 - 8:00PM.<br />\n<br />\nThe episode of Barnwood Builders (season 2\, episode 10)&nbsp\;where the tasting room started will be showed.&nbsp\;
LOCATION:Springfield Distillery 9040 River Road Halifax\, VA
UID:e.845.7016
SEQUENCE:3
DTSTAMP:20260422T194332Z
URL:https://business.halifaxchamber.net/events/details/meet-barnwood-builders-tim-rose-7016
END:VEVENT

END:VCALENDAR
