BEGIN:VCALENDAR
VERSION:2.0
PRODID:-//ChamberMaster//Event Calendar 2.0//EN
METHOD:PUBLISH
X-PUBLISHED-TTL:P3D
REFRESH-INTERVAL:P3D
CALSCALE:GREGORIAN
BEGIN:VEVENT
DTSTART:20191207T140000Z
DTEND:20191207T193000Z
X-MICROSOFT-CDO-ALLDAYEVENT:FALSE
SUMMARY:Meet Santa Clause
DESCRIPTION:Come meet Santa Claus.\n\nPhoto package includes (1) 8x10 print\, (2) 4x6 prints and a sheet of 9 wallet size prints for $17
X-ALT-DESC;FMTTYPE=text/html:Come meet Santa Claus.<br />\nPhoto package includes (1) 8x10 print\, (2) 4x6 prints and a sheet of 9 wallet size prints for $17
LOCATION:Inside the Town of Halifax Farmer's Market 209 S. Main St Halifax\, VA 24558
UID:e.845.15554
SEQUENCE:3
DTSTAMP:20260420T200134Z
URL:https://business.halifaxchamber.net/events/details/meet-santa-clause-12-07-2019-15554
END:VEVENT

END:VCALENDAR
