BEGIN:VCALENDAR
VERSION:2.0
PRODID:-//ChamberMaster//Event Calendar 2.0//EN
METHOD:PUBLISH
X-PUBLISHED-TTL:P3D
REFRESH-INTERVAL:P3D
CALSCALE:GREGORIAN
BEGIN:VEVENT
DTSTART:20190115T000000Z
DTEND:20190115T020000Z
X-MICROSOFT-CDO-ALLDAYEVENT:FALSE
SUMMARY:Meeting & Public Hearing on Rezoning Request
DESCRIPTION:The South Boston Town Council will hold a public hearing beginning at 7:00pm in Council Chambers\, 502 Yancey Street\, South Boston\, VA to receive citizen comment on a recommendation from the South Boston Planning Commission to REZONE tax parcels 28949 and 2850\, 1010 Logan Street\, from R-2 Medium Residential District to B-3 Central Bisiness District to allow the property to be used as a salon/boutique/spa. Applicant: Monica P. Edmonds\, agent for The Stonewall Trust. \n\n\n\nAll interested parties are invited to be present and will be given an opportunity to be head regarding these matters. For additiona information\, please contact the Town Planning Department at 455 Ferry Street\, South Boston or call (434) 575-4241 or email hcole@southbostonva.us.
X-ALT-DESC;FMTTYPE=text/html:The South Boston Town Council will hold a public hearing beginning at 7:00pm in Council Chambers\, 502 Yancey Street\, South Boston\, VA to receive citizen comment on a recommendation from the South Boston Planning Commission to REZONE tax parcels 28949 and 2850\, 1010 Logan Street\, from R-2 Medium Residential District to B-3 Central Bisiness District to allow the property to be used as a salon/boutique/spa. Applicant: Monica P. Edmonds\, agent for The Stonewall Trust.&nbsp\;<br />\n<br />\nAll interested parties are invited to be present and will be given an opportunity to be head regarding these matters. For additiona information\, please contact the Town Planning Department at 455 Ferry Street\, South Boston or call (434) 575-4241 or email hcole@southbostonva.us.&nbsp\;
LOCATION:Council Chambers\, 502 Yancey Street\, South Boston\, VA
UID:e.845.11685
SEQUENCE:3
DTSTAMP:20260421T135920Z
URL:https://business.halifaxchamber.net/events/details/meeting-public-hearing-on-rezoning-request-11685
END:VEVENT

END:VCALENDAR
