BEGIN:VCALENDAR
VERSION:2.0
PRODID:-//ChamberMaster//Event Calendar 2.0//EN
METHOD:PUBLISH
X-PUBLISHED-TTL:P3D
REFRESH-INTERVAL:P3D
CALSCALE:GREGORIAN
BEGIN:VEVENT
DTSTART:20170715T010000Z
DTEND:20170715T035500Z
X-MICROSOFT-CDO-ALLDAYEVENT:FALSE
SUMMARY:Megan Doss at JB's Burger\, Apps & Taps
DESCRIPTION:Megan Doss and Matt Crowder  live at JB's Burgers\, Apps and Taps located in the World of Sports Friday\, July 14th.
X-ALT-DESC;FMTTYPE=text/html:Megan Doss and Matt Crowder &nbsp\;live at JB&#39\;s&nbsp\;Burgers\, Apps and Taps located in the World of Sports Friday\, July 14th.
LOCATION:JB's Burgers\, Apps & Taps World of Sports 2030 Bill Tuck Highway South Boston\, VA
UID:e.845.7009
SEQUENCE:3
DTSTAMP:20260422T194204Z
URL:https://business.halifaxchamber.net/events/details/megan-doss-at-jb-s-burger-apps-taps-7009
END:VEVENT

END:VCALENDAR
