BEGIN:VCALENDAR
VERSION:2.0
PRODID:-//ChamberMaster//Event Calendar 2.0//EN
METHOD:PUBLISH
X-PUBLISHED-TTL:P3D
REFRESH-INTERVAL:P3D
CALSCALE:GREGORIAN
BEGIN:VEVENT
DTSTART:20191116T020000Z
DTEND:20191116T045500Z
X-MICROSOFT-CDO-ALLDAYEVENT:FALSE
SUMMARY:Megan Doss Live
DESCRIPTION:Megan Doss will be performing all of your favorite county hits Friday\, November 15th at the World of Sports from 9-midnight.
X-ALT-DESC;FMTTYPE=text/html:Megan Doss will be performing all of your favorite county hits Friday\, November 15th at the World of Sports from 9-midnight.&nbsp\;
LOCATION:World of Sports 2030 Bill Tuck Highway South Boston\, VA 24592
UID:e.845.15518
SEQUENCE:3
DTSTAMP:20260420T195723Z
URL:https://business.halifaxchamber.net/events/details/megan-doss-live-15518
END:VEVENT

END:VCALENDAR
