BEGIN:VCALENDAR
VERSION:2.0
PRODID:-//ChamberMaster//Event Calendar 2.0//EN
METHOD:PUBLISH
X-PUBLISHED-TTL:P3D
REFRESH-INTERVAL:P3D
CALSCALE:GREGORIAN
BEGIN:VEVENT
DTSTART:20200208T013000Z
DTEND:20200208T043000Z
X-MICROSOFT-CDO-ALLDAYEVENT:FALSE
SUMMARY:Megan Doss & Matt Crowder Live
DESCRIPTION:Megan Doss and Matt Crowder will be performing all of your favorite county hits Friday\, February 7th at the World of Sports from 8:30 - 11:30PM.  Come in early for dinner. Some old favorites are back on the menu!
X-ALT-DESC;FMTTYPE=text/html:Megan Doss and Matt Crowder will be performing all of your favorite county hits Friday\, February 7th at the World of Sports from 8:30 - 11:30PM. &nbsp\;Come in early for dinner. Some old favorites are back on the menu!&nbsp\;
LOCATION:World of Sports 2030 Bill Tuck Highway South Boston\, VA 24592
UID:e.845.17481
SEQUENCE:3
DTSTAMP:20260420T164842Z
URL:https://business.halifaxchamber.net/events/details/megan-doss-matt-crowder-live-17481
END:VEVENT

END:VCALENDAR
