BEGIN:VCALENDAR
VERSION:2.0
PRODID:-//ChamberMaster//Event Calendar 2.0//EN
METHOD:PUBLISH
X-PUBLISHED-TTL:P3D
REFRESH-INTERVAL:P3D
CALSCALE:GREGORIAN
BEGIN:VEVENT
DTSTART:20190907T010000Z
DTEND:20190907T035500Z
X-MICROSOFT-CDO-ALLDAYEVENT:FALSE
SUMMARY:Megan Doss & Norm live at the World of Sports
DESCRIPTION:Megan Doss and Norm will be performing all of your favorite county hits Friday\, September 6th at the World of Sports from 9-midnight.
X-ALT-DESC;FMTTYPE=text/html:Megan Doss and Norm will be performing all of your favorite county hits Friday\, September 6th at the World of Sports from 9-midnight.&nbsp\;
LOCATION:World of Sports 2030 Bill Tuck Highway South Boston\, VA 24592
UID:e.845.13281
SEQUENCE:3
DTSTAMP:20260421T013624Z
URL:https://business.halifaxchamber.net/events/details/megan-doss-norm-live-at-the-world-of-sports-13281
END:VEVENT

END:VCALENDAR
