BEGIN:VCALENDAR
VERSION:2.0
PRODID:-//ChamberMaster//Event Calendar 2.0//EN
METHOD:PUBLISH
X-PUBLISHED-TTL:P3D
REFRESH-INTERVAL:P3D
CALSCALE:GREGORIAN
BEGIN:VEVENT
DTSTART:20191120T170000Z
DTEND:20191120T180000Z
X-MICROSOFT-CDO-ALLDAYEVENT:FALSE
SUMMARY:Member Orientation
DESCRIPTION:Are you new to the Chamber?\n\nHave you started a new position within a company that is a Chamber member?\n\nDo you just need a refresher course on how to get the most out of your membership?\n\nAre you thinking about joining and want to know more?\n\nJoin us for our Member Orientation! You will meet other new members and learn about the benefits available to you and your business. Light lunch will be provided. Please RSVP by November 18\, 2019.
X-ALT-DESC;FMTTYPE=text/html:<span style="color:#1D2129\;"><span style="font-family:arial\,sans-serif\;"><span style="font-size:10.5pt\;">Are you new to the Chamber?<br>\nHave you started a new position within a company that is a Chamber member?<br>\nDo you just need a refresher course on how to get the most out of your membership?<br>\nAre you thinking about joining and want to know more?<br>\nJoin us for our Member Orientation! You will meet other new members and learn about the benefits available to you and your business. Light lunch will be provided. Please RSVP by November 18\, 2019.&nbsp\;</span></span></span><br>\n<br>\n&nbsp\;
LOCATION:SVHEF Frank Slayton Board Room 180 Factory Street South Boston\, VA 24592
UID:e.845.15511
SEQUENCE:3
DTSTAMP:20260420T195631Z
URL:https://business.halifaxchamber.net/events/details/member-orientation-15511
END:VEVENT

END:VCALENDAR
